BEGIN:VCALENDAR
VERSION:2.0
PRODID:-//Tukios.com/
BEGIN:VEVENT
UID:af214df0-5a32-4eae-9f0c-d86350898f5f@www.boothbyfuneral.com
DTSTAMP:20260422T215024Z
DTSTART:20260429T153000Z
DTEND:20260429T163000Z
SUMMARY:Mass
DESCRIPTION:
URL:https://www.boothbyfuneral.com/obituaries/brandon-schirrmacher
LOCATION:Immaculate Conception Catholic Church 709 W Cedar St  Cherokee 
	IA 51012
GEO:42.751488;-95.5588879
END:VEVENT
END:VCALENDAR