BEGIN:VCALENDAR
VERSION:2.0
PRODID:-//Tukios.com/
BEGIN:VEVENT
UID:c3388940-2f8f-4ee0-b2af-12d9a9f1dae6@www.boothbyfuneral.com
DTSTAMP:20260422T215626Z
DTSTART:20260428T210000Z
DTEND:20260429T000000Z
SUMMARY:Visitation
DESCRIPTION:
URL:https://www.boothbyfuneral.com/obituaries/brandon-schirrmacher
LOCATION:Boothby Funeral Home 207 E Main St  Cherokee IA 51012
GEO:42.7493552;-95.5491381
END:VEVENT
END:VCALENDAR