BEGIN:VCALENDAR
VERSION:2.0
PRODID:-//Tukios.com/
BEGIN:VEVENT
UID:c386c5eb-d285-425e-8ed4-d90afb4de1ca@www.boothbyfuneral.com
DTSTAMP:20260425T012049Z
DTSTART:20260429T220000Z
DTEND:20260430T000000Z
SUMMARY:Visitation
DESCRIPTION:
URL:https://www.boothbyfuneral.com/obituaries/dorothy-j-westphal
LOCATION:Boothby Funeral Home 207 E Main St  Cherokee IA 51012
GEO:42.7493552;-95.5491381
END:VEVENT
END:VCALENDAR