BEGIN:VCALENDAR
VERSION:2.0
PRODID:-//Tukios.com/
BEGIN:VEVENT
UID:cd83cd93-447c-4b36-9c33-c6be65b546f5@www.boothbyfuneral.com
DTSTAMP:20260425T012625Z
DTSTART:20260430T153000Z
DTEND:20260430T163000Z
SUMMARY:Funeral Service
DESCRIPTION:
URL:https://www.boothbyfuneral.com/obituaries/dorothy-j-westphal
LOCATION:Boothby Funeral Home 207 E Main St  Cherokee IA 51012
GEO:42.7493552;-95.5491381
END:VEVENT
END:VCALENDAR