BEGIN:VCALENDAR
VERSION:2.0
PRODID:-//Tukios.com/
BEGIN:VEVENT
UID:3a8482e3-ea7c-48cb-a3f9-fc939195855f@www.boothbyfuneral.com
DTSTAMP:20260424T001733Z
DTSTART:20260427T173000Z
DTEND:20260427T183000Z
SUMMARY:Visitation
DESCRIPTION:
URL:https://www.boothbyfuneral.com/obituaries/mary-c-loucks
LOCATION:Quimby United Methodist Church 300 Sellers Street  Quimby IA 
	51049
GEO:42.6317925;-95.6403684
END:VEVENT
END:VCALENDAR