BEGIN:VCALENDAR
VERSION:2.0
PRODID:-//Tukios.com/
BEGIN:VEVENT
UID:63cd9fe8-3675-4b50-91cf-ab43361af00d@www.boothbyfuneral.com
DTSTAMP:20260424T002342Z
DTSTART:20260427T183000Z
DTEND:20260427T193000Z
SUMMARY:Memorial Service
DESCRIPTION:
URL:https://www.boothbyfuneral.com/obituaries/mary-c-loucks
LOCATION:Quimby United Methodist Church 300 Sellers Street  Quimby IA 
	51049
GEO:42.6317925;-95.6403684
END:VEVENT
END:VCALENDAR