BEGIN:VCALENDAR
VERSION:2.0
PRODID:-//Tukios.com/
BEGIN:VEVENT
UID:8118cd09-0134-44e2-9820-30eb04be2cf5@www.boothbyfuneral.com
DTSTAMP:20260422T215702Z
DTSTART:20260425T200000Z
DTEND:20260425T220000Z
SUMMARY:Visitation
DESCRIPTION:
URL:https://www.boothbyfuneral.com/obituaries/peggy-ann-ellis
LOCATION:Boothby Funeral Home 207 E Main St  Cherokee IA 51012
GEO:42.7493552;-95.5491381
END:VEVENT
END:VCALENDAR