BEGIN:VCALENDAR
VERSION:2.0
PRODID:-//Tukios.com/
BEGIN:VEVENT
UID:1b007032-cb26-4c58-9f2c-02dde840fd79@www.boothbyfuneral.com
DTSTAMP:20260419T233022Z
DTSTART:20260425T153000Z
DTEND:20260425T163000Z
SUMMARY:Funeral Service
DESCRIPTION:
URL:https://www.boothbyfuneral.com/obituaries/verdell-johnson
LOCATION: 412 3rd St  Meriden IA 51037
GEO:42.7929078;-95.6277647
END:VEVENT
END:VCALENDAR