BEGIN:VCALENDAR
VERSION:2.0
PRODID:-//Tukios.com/
BEGIN:VEVENT
UID:f723a3be-0bb8-4773-9b84-25086a36bc5c@www.boothbyfuneral.com
DTSTAMP:20260419T233203Z
DTSTART:20260424T220000Z
DTEND:20260425T000000Z
SUMMARY:Visitation
DESCRIPTION:
URL:https://www.boothbyfuneral.com/obituaries/verdell-johnson
LOCATION: 207 E Main St  Cherokee IA 51012
GEO:42.7493552;-95.5491381
END:VEVENT
END:VCALENDAR